BEGIN:VCALENDAR
VERSION:2.0
PRODID:-//Agricola - ECPv6.15.18//NONSGML v1.0//EN
CALSCALE:GREGORIAN
METHOD:PUBLISH
X-WR-CALNAME:Agricola
X-ORIGINAL-URL:https://agricola.de
X-WR-CALDESC:Veranstaltungen für Agricola
REFRESH-INTERVAL;VALUE=DURATION:PT1H
X-Robots-Tag:noindex
X-PUBLISHED-TTL:PT1H
BEGIN:VTIMEZONE
TZID:Europe/Paris
BEGIN:DAYLIGHT
TZOFFSETFROM:+0100
TZOFFSETTO:+0200
TZNAME:CEST
DTSTART:20250330T010000
END:DAYLIGHT
BEGIN:STANDARD
TZOFFSETFROM:+0200
TZOFFSETTO:+0100
TZNAME:CET
DTSTART:20251026T010000
END:STANDARD
BEGIN:DAYLIGHT
TZOFFSETFROM:+0100
TZOFFSETTO:+0200
TZNAME:CEST
DTSTART:20260329T010000
END:DAYLIGHT
BEGIN:STANDARD
TZOFFSETFROM:+0200
TZOFFSETTO:+0100
TZNAME:CET
DTSTART:20261025T010000
END:STANDARD
BEGIN:DAYLIGHT
TZOFFSETFROM:+0100
TZOFFSETTO:+0200
TZNAME:CEST
DTSTART:20270328T010000
END:DAYLIGHT
BEGIN:STANDARD
TZOFFSETFROM:+0200
TZOFFSETTO:+0100
TZNAME:CET
DTSTART:20271031T010000
END:STANDARD
END:VTIMEZONE
BEGIN:VEVENT
DTSTART;VALUE=DATE:20260425
DTEND;VALUE=DATE:20260426
DTSTAMP:20260424T085125
CREATED:20260417T104703Z
LAST-MODIFIED:20260417T104703Z
UID:848-1777075200-1777161599@agricola.de
SUMMARY:Vortrag
DESCRIPTION:Unternehmensentwicklung in der Praxis \n 
URL:https://agricola.de/event/vortrag/
LOCATION:Agricola AV Aachen\, Melatener Straße 48\, Aachen\, 52074\, Deutschland
CATEGORIES:Aachen
END:VEVENT
BEGIN:VEVENT
DTSTART;TZID=Europe/Paris:20260430T200000
DTEND;TZID=Europe/Paris:20260501T040000
DTSTAMP:20260424T085125
CREATED:20260417T104857Z
LAST-MODIFIED:20260417T104857Z
UID:850-1777579200-1777608000@agricola.de
SUMMARY:Tanz in den Mai
DESCRIPTION:
URL:https://agricola.de/event/tanz-in-den-mai/
LOCATION:Agricola AV Aachen\, Melatener Straße 48\, Aachen\, 52074\, Deutschland
CATEGORIES:Aachen
END:VEVENT
END:VCALENDAR