BEGIN:VCALENDAR
VERSION:2.0
PRODID:-//Agricola - ECPv6.15.18//NONSGML v1.0//EN
CALSCALE:GREGORIAN
METHOD:PUBLISH
X-ORIGINAL-URL:https://agricola.de
X-WR-CALDESC:Veranstaltungen für Agricola
REFRESH-INTERVAL;VALUE=DURATION:PT1H
X-Robots-Tag:noindex
X-PUBLISHED-TTL:PT1H
BEGIN:VTIMEZONE
TZID:Europe/Paris
BEGIN:DAYLIGHT
TZOFFSETFROM:+0100
TZOFFSETTO:+0200
TZNAME:CEST
DTSTART:20250330T010000
END:DAYLIGHT
BEGIN:STANDARD
TZOFFSETFROM:+0200
TZOFFSETTO:+0100
TZNAME:CET
DTSTART:20251026T010000
END:STANDARD
BEGIN:DAYLIGHT
TZOFFSETFROM:+0100
TZOFFSETTO:+0200
TZNAME:CEST
DTSTART:20260329T010000
END:DAYLIGHT
BEGIN:STANDARD
TZOFFSETFROM:+0200
TZOFFSETTO:+0100
TZNAME:CET
DTSTART:20261025T010000
END:STANDARD
BEGIN:DAYLIGHT
TZOFFSETFROM:+0100
TZOFFSETTO:+0200
TZNAME:CEST
DTSTART:20270328T010000
END:DAYLIGHT
BEGIN:STANDARD
TZOFFSETFROM:+0200
TZOFFSETTO:+0100
TZNAME:CET
DTSTART:20271031T010000
END:STANDARD
END:VTIMEZONE
BEGIN:VEVENT
DTSTART;VALUE=DATE:20261121
DTEND;VALUE=DATE:20261122
DTSTAMP:20260424T214201
CREATED:20250927T200159Z
LAST-MODIFIED:20250927T200159Z
UID:813-1795219200-1795305599@agricola.de
SUMMARY:Kulinarischer Abend
DESCRIPTION:
URL:https://agricola.de/event/kulinarischer-abend-2/
LOCATION:Agricola AV Clausthal\, L'Aigler Platz 4\, Clausthal-Zellerfeld\, 38678\, Deutschland
CATEGORIES:Altherrenschaft,Clausthal
END:VEVENT
BEGIN:VEVENT
DTSTART;VALUE=DATE:20261128
DTEND;VALUE=DATE:20261129
DTSTAMP:20260424T214201
CREATED:20250927T200257Z
LAST-MODIFIED:20250927T200257Z
UID:815-1795824000-1795910399@agricola.de
SUMMARY:Weihnachtsessen
DESCRIPTION:
URL:https://agricola.de/event/weihnachtsessen-2/
LOCATION:Agricola AV Aachen\, Melatener Straße 48\, Aachen\, 52074\, Deutschland
CATEGORIES:Aachen,Altherrenschaft
END:VEVENT
END:VCALENDAR