BEGIN:VCALENDAR
VERSION:2.0
PRODID:-//Agricola - ECPv6.15.18//NONSGML v1.0//EN
CALSCALE:GREGORIAN
METHOD:PUBLISH
X-ORIGINAL-URL:https://agricola.de
X-WR-CALDESC:Veranstaltungen für Agricola
REFRESH-INTERVAL;VALUE=DURATION:PT1H
X-Robots-Tag:noindex
X-PUBLISHED-TTL:PT1H
BEGIN:VTIMEZONE
TZID:Europe/Paris
BEGIN:DAYLIGHT
TZOFFSETFROM:+0100
TZOFFSETTO:+0200
TZNAME:CEST
DTSTART:20250330T010000
END:DAYLIGHT
BEGIN:STANDARD
TZOFFSETFROM:+0200
TZOFFSETTO:+0100
TZNAME:CET
DTSTART:20251026T010000
END:STANDARD
BEGIN:DAYLIGHT
TZOFFSETFROM:+0100
TZOFFSETTO:+0200
TZNAME:CEST
DTSTART:20260329T010000
END:DAYLIGHT
BEGIN:STANDARD
TZOFFSETFROM:+0200
TZOFFSETTO:+0100
TZNAME:CET
DTSTART:20261025T010000
END:STANDARD
BEGIN:DAYLIGHT
TZOFFSETFROM:+0100
TZOFFSETTO:+0200
TZNAME:CEST
DTSTART:20270328T010000
END:DAYLIGHT
BEGIN:STANDARD
TZOFFSETFROM:+0200
TZOFFSETTO:+0100
TZNAME:CET
DTSTART:20271031T010000
END:STANDARD
END:VTIMEZONE
BEGIN:VEVENT
DTSTART;VALUE=DATE:20261001
DTEND;VALUE=DATE:20261005
DTSTAMP:20260424T200712
CREATED:20250830T135548Z
LAST-MODIFIED:20250830T135548Z
UID:801-1790812800-1791158399@agricola.de
SUMMARY:Weinreise
DESCRIPTION:
URL:https://agricola.de/event/weinreise/
CATEGORIES:Altherrenschaft
END:VEVENT
BEGIN:VEVENT
DTSTART;VALUE=DATE:20261022
DTEND;VALUE=DATE:20261026
DTSTAMP:20260424T200712
CREATED:20260403T191304Z
LAST-MODIFIED:20260403T191304Z
UID:841-1792627200-1792972799@agricola.de
SUMMARY:Herbstjagd in der Schorfheide
DESCRIPTION:
URL:https://agricola.de/event/herbstjagd-in-der-schorfheide/
CATEGORIES:Altherrenschaft
END:VEVENT
END:VCALENDAR