BEGIN:VCALENDAR
VERSION:2.0
PRODID:-//Agricola - ECPv6.15.18//NONSGML v1.0//EN
CALSCALE:GREGORIAN
METHOD:PUBLISH
X-WR-CALNAME:Agricola
X-ORIGINAL-URL:https://agricola.de
X-WR-CALDESC:Veranstaltungen für Agricola
REFRESH-INTERVAL;VALUE=DURATION:PT1H
X-Robots-Tag:noindex
X-PUBLISHED-TTL:PT1H
BEGIN:VTIMEZONE
TZID:Europe/Paris
BEGIN:DAYLIGHT
TZOFFSETFROM:+0100
TZOFFSETTO:+0200
TZNAME:CEST
DTSTART:20250330T010000
END:DAYLIGHT
BEGIN:STANDARD
TZOFFSETFROM:+0200
TZOFFSETTO:+0100
TZNAME:CET
DTSTART:20251026T010000
END:STANDARD
BEGIN:DAYLIGHT
TZOFFSETFROM:+0100
TZOFFSETTO:+0200
TZNAME:CEST
DTSTART:20260329T010000
END:DAYLIGHT
BEGIN:STANDARD
TZOFFSETFROM:+0200
TZOFFSETTO:+0100
TZNAME:CET
DTSTART:20261025T010000
END:STANDARD
BEGIN:DAYLIGHT
TZOFFSETFROM:+0100
TZOFFSETTO:+0200
TZNAME:CEST
DTSTART:20270328T010000
END:DAYLIGHT
BEGIN:STANDARD
TZOFFSETFROM:+0200
TZOFFSETTO:+0100
TZNAME:CET
DTSTART:20271031T010000
END:STANDARD
END:VTIMEZONE
BEGIN:VEVENT
DTSTART;VALUE=DATE:20260704
DTEND;VALUE=DATE:20260705
DTSTAMP:20260424T141304
CREATED:20260417T105728Z
LAST-MODIFIED:20260417T105728Z
UID:858-1783123200-1783209599@agricola.de
SUMMARY:Kingshill-Cup
DESCRIPTION:
URL:https://agricola.de/event/kingshill-cup/
CATEGORIES:Aachen
END:VEVENT
BEGIN:VEVENT
DTSTART;VALUE=DATE:20260711
DTEND;VALUE=DATE:20260712
DTSTAMP:20260424T141304
CREATED:20260417T105933Z
LAST-MODIFIED:20260417T105933Z
UID:860-1783728000-1783814399@agricola.de
SUMMARY:Vortrag
DESCRIPTION:Situation der Energiewirtschaft und Perspektive von IT Systemen in der Energiebranche
URL:https://agricola.de/event/vortrag-2/
LOCATION:Agricola AV Aachen\, Melatener Straße 48\, Aachen\, 52074\, Deutschland
CATEGORIES:Aachen
END:VEVENT
BEGIN:VEVENT
DTSTART;VALUE=DATE:20260718
DTEND;VALUE=DATE:20260719
DTSTAMP:20260424T141304
CREATED:20260417T110025Z
LAST-MODIFIED:20260417T110025Z
UID:862-1784332800-1784419199@agricola.de
SUMMARY:Segelworkshop und Abkneipe
DESCRIPTION:
URL:https://agricola.de/event/segelworkshop-und-abkneipe/
LOCATION:Agricola AV Aachen\, Melatener Straße 48\, Aachen\, 52074\, Deutschland
CATEGORIES:Aachen
END:VEVENT
END:VCALENDAR