BEGIN:VCALENDAR
VERSION:2.0
PRODID:-//Agricola - ECPv6.15.18//NONSGML v1.0//EN
CALSCALE:GREGORIAN
METHOD:PUBLISH
X-ORIGINAL-URL:https://agricola.de
X-WR-CALDESC:Veranstaltungen für Agricola
REFRESH-INTERVAL;VALUE=DURATION:PT1H
X-Robots-Tag:noindex
X-PUBLISHED-TTL:PT1H
BEGIN:VTIMEZONE
TZID:Europe/Paris
BEGIN:DAYLIGHT
TZOFFSETFROM:+0100
TZOFFSETTO:+0200
TZNAME:CEST
DTSTART:20250330T010000
END:DAYLIGHT
BEGIN:STANDARD
TZOFFSETFROM:+0200
TZOFFSETTO:+0100
TZNAME:CET
DTSTART:20251026T010000
END:STANDARD
BEGIN:DAYLIGHT
TZOFFSETFROM:+0100
TZOFFSETTO:+0200
TZNAME:CEST
DTSTART:20260329T010000
END:DAYLIGHT
BEGIN:STANDARD
TZOFFSETFROM:+0200
TZOFFSETTO:+0100
TZNAME:CET
DTSTART:20261025T010000
END:STANDARD
BEGIN:DAYLIGHT
TZOFFSETFROM:+0100
TZOFFSETTO:+0200
TZNAME:CEST
DTSTART:20270328T010000
END:DAYLIGHT
BEGIN:STANDARD
TZOFFSETFROM:+0200
TZOFFSETTO:+0100
TZNAME:CET
DTSTART:20271031T010000
END:STANDARD
END:VTIMEZONE
BEGIN:VEVENT
DTSTART;VALUE=DATE:20260123
DTEND;VALUE=DATE:20260126
DTSTAMP:20260424T143631
CREATED:20250927T195858Z
LAST-MODIFIED:20260101T132332Z
UID:809-1769126400-1769385599@agricola.de
SUMMARY:Wintersportwochenende
DESCRIPTION:
URL:https://agricola.de/event/wintersportwochenende/
LOCATION:Agricola AV Clausthal\, L'Aigler Platz 4\, Clausthal-Zellerfeld\, 38678\, Deutschland
CATEGORIES:Altherrenschaft,Clausthal
END:VEVENT
BEGIN:VEVENT
DTSTART;VALUE=DATE:20260125
DTEND;VALUE=DATE:20260126
DTSTAMP:20260424T143631
CREATED:20251219T162848Z
LAST-MODIFIED:20251219T162848Z
UID:830-1769299200-1769385599@agricola.de
SUMMARY:Ausstellung „Queere Moderne. 1900 – 1950“
DESCRIPTION:
URL:https://agricola.de/event/ausstellung-queere-moderne-1900-1950/
LOCATION:K20\, Grabbeplatz 5\, Düsseldorf\, 40213
CATEGORIES:Altherrenschaft
END:VEVENT
END:VCALENDAR